BEGIN:VCALENDAR
VERSION:2.0
PRODID:-//SV-Pouch e.V. - ECPv6.15.20//NONSGML v1.0//EN
CALSCALE:GREGORIAN
METHOD:PUBLISH
X-ORIGINAL-URL:https://sv-pouch.de
X-WR-CALDESC:Veranstaltungen für SV-Pouch e.V.
REFRESH-INTERVAL;VALUE=DURATION:PT1H
X-Robots-Tag:noindex
X-PUBLISHED-TTL:PT1H
BEGIN:VTIMEZONE
TZID:Europe/Berlin
BEGIN:DAYLIGHT
TZOFFSETFROM:+0100
TZOFFSETTO:+0200
TZNAME:CEST
DTSTART:20250330T010000
END:DAYLIGHT
BEGIN:STANDARD
TZOFFSETFROM:+0200
TZOFFSETTO:+0100
TZNAME:CET
DTSTART:20251026T010000
END:STANDARD
BEGIN:DAYLIGHT
TZOFFSETFROM:+0100
TZOFFSETTO:+0200
TZNAME:CEST
DTSTART:20260329T010000
END:DAYLIGHT
BEGIN:STANDARD
TZOFFSETFROM:+0200
TZOFFSETTO:+0100
TZNAME:CET
DTSTART:20261025T010000
END:STANDARD
BEGIN:DAYLIGHT
TZOFFSETFROM:+0100
TZOFFSETTO:+0200
TZNAME:CEST
DTSTART:20270328T010000
END:DAYLIGHT
BEGIN:STANDARD
TZOFFSETFROM:+0200
TZOFFSETTO:+0100
TZNAME:CET
DTSTART:20271031T010000
END:STANDARD
END:VTIMEZONE
BEGIN:VEVENT
DTSTART;VALUE=DATE:20260424
DTEND;VALUE=DATE:20260427
DTSTAMP:20260424T152955
CREATED:20251228T135850Z
LAST-MODIFIED:20251228T135850Z
UID:2842-1776988800-1777247999@sv-pouch.de
SUMMARY:Trainingswochenende Kinder und Jugend
DESCRIPTION:vom 24. bis 26. April 2026
URL:https://sv-pouch.de/veranstaltung/trainingswochenende-kinder-und-jugend/
LOCATION:Muldestausee Pouch
CATEGORIES:Veranstaltungen
ATTACH;FMTTYPE=image/jpeg:https://sv-pouch.de/wp-content/uploads/Nebel-08-3.jpg
END:VEVENT
BEGIN:VEVENT
DTSTART;TZID=Europe/Berlin:20260425T140000
DTEND;TZID=Europe/Berlin:20260425T170000
DTSTAMP:20260424T152955
CREATED:20251227T171037Z
LAST-MODIFIED:20251227T172451Z
UID:2816-1777125600-1777136400@sv-pouch.de
SUMMARY:Ansegeln am 25.04.2026
DESCRIPTION:angesegelt wird ab 14.00 Uhr bei hoffentlich bestem Frühlingswetter
URL:https://sv-pouch.de/veranstaltung/ansegeln-am-25-04-2026/
LOCATION:Muldestausee Pouch
CATEGORIES:Veranstaltungen
ATTACH;FMTTYPE=image/jpeg:https://sv-pouch.de/wp-content/uploads/Ansegeln-02-2.jpg
END:VEVENT
BEGIN:VEVENT
DTSTART;TZID=Europe/Berlin:20260502T110000
DTEND;TZID=Europe/Berlin:20260503T130000
DTSTAMP:20260424T152955
CREATED:20251227T171430Z
LAST-MODIFIED:20260417T084158Z
UID:2818-1777719600-1777813200@sv-pouch.de
SUMMARY:Mairegatta mit Rangliste Europe und Yardstick am 02. und 03. Mai 2026
DESCRIPTION:erster Start am 02.05.2026 um 11.00 Uhr\,  Seglerabend um 18.00 Uhr \nam 03.05.2026 Start um 10.00 Uhr \nAnmeldung und Ausschreibung:   manage2sail \n 
URL:https://sv-pouch.de/veranstaltung/mairegatta-mit-rangliste-europe-und-yardstick-am-02-und-03-mai-2026/
LOCATION:Muldestausee Pouch
CATEGORIES:Regatten
ATTACH;FMTTYPE=image/jpeg:https://sv-pouch.de/wp-content/uploads/Plauen-02.jpeg
END:VEVENT
BEGIN:VEVENT
DTSTART;VALUE=DATE:20260515
DTEND;VALUE=DATE:20260517
DTSTAMP:20260424T152955
CREATED:20251228T140110Z
LAST-MODIFIED:20251228T140110Z
UID:2844-1778803200-1778975999@sv-pouch.de
SUMMARY:Trainingswochenende für Erwachsene
DESCRIPTION:am 15. und 16. Mai 2026
URL:https://sv-pouch.de/veranstaltung/trainingswochenende-fuer-erwachsene/
CATEGORIES:Veranstaltungen
ATTACH;FMTTYPE=image/jpeg:https://sv-pouch.de/wp-content/uploads/Nebel-05-3.jpg
END:VEVENT
BEGIN:VEVENT
DTSTART;TZID=Europe/Berlin:20260523T090000
DTEND;TZID=Europe/Berlin:20260523T170000
DTSTAMP:20260424T152955
CREATED:20251227T172404Z
LAST-MODIFIED:20251227T172404Z
UID:2822-1779526800-1779555600@sv-pouch.de
SUMMARY:Paddeltour auf der Mulde am 23. Mai 2026
DESCRIPTION:für die paddeltour treffen sich alle Teilnehmer um 9.00 Uhr im Hafen
URL:https://sv-pouch.de/veranstaltung/paddeltour-auf-der-mulde-am-23-mai-2026/
LOCATION:Muldestausee Pouch
CATEGORIES:Veranstaltungen
ATTACH;FMTTYPE=image/jpeg:https://sv-pouch.de/wp-content/uploads/Paddeln-4.jpg
END:VEVENT
BEGIN:VEVENT
DTSTART;VALUE=DATE:20260606
DTEND;VALUE=DATE:20260607
DTSTAMP:20260424T152955
CREATED:20251228T084452Z
LAST-MODIFIED:20251228T084452Z
UID:2825-1780704000-1780790399@sv-pouch.de
SUMMARY:50 Jahre SV Pouch - Vereinsjubiläum am 06. Juni 2026
DESCRIPTION:Am 06. Juni 2026 feiern wir das 50jährige Bestehen unseres Segelvereins. Ab 10.00 Uhr geht es los.
URL:https://sv-pouch.de/veranstaltung/50-jahre-sv-pouch-vereinsjubilaeum-am-06-juni-2026/
LOCATION:Muldestausee Pouch
CATEGORIES:Veranstaltungen
ATTACH;FMTTYPE=image/jpeg:https://sv-pouch.de/wp-content/uploads/Ansegeln-00-2.jpg
END:VEVENT
BEGIN:VEVENT
DTSTART;TZID=Europe/Berlin:20260620T200000
DTEND;TZID=Europe/Berlin:20260620T230000
DTSTAMP:20260424T152955
CREATED:20251228T084728Z
LAST-MODIFIED:20251228T084728Z
UID:2827-1781985600-1781996400@sv-pouch.de
SUMMARY:Mondscheinsegeln am 20. Juni 2026
DESCRIPTION:Wir starten um 20.00 Uhr zum Sonnenuntergangssegeln.
URL:https://sv-pouch.de/veranstaltung/mondscheinsegeln-am-20-juni-2026/
LOCATION:Muldestausee Pouch
CATEGORIES:Veranstaltungen
ATTACH;FMTTYPE=image/jpeg:https://sv-pouch.de/wp-content/uploads/Sonnenuntergan-06.jpg
END:VEVENT
BEGIN:VEVENT
DTSTART;TZID=Europe/Berlin:20260627T110000
DTEND;TZID=Europe/Berlin:20260628T140000
DTSTAMP:20260424T152955
CREATED:20251228T085158Z
LAST-MODIFIED:20251228T085158Z
UID:2830-1782558000-1782655200@sv-pouch.de
SUMMARY:Sommerregatta am 27. und 28. Juni 2026
DESCRIPTION:erster Start am 27.06.2026 um 11.00 Uhr; Seglerabend um 18.00 Uhr \nStart am 28.06.2026 um 10.00 Uhr
URL:https://sv-pouch.de/veranstaltung/sommerregatta-am-27-und-28-juni-2026/
LOCATION:Muldestausee Pouch
CATEGORIES:Regatten
ATTACH;FMTTYPE=image/jpeg:https://sv-pouch.de/wp-content/uploads/Sommer-02-2.jpg
END:VEVENT
BEGIN:VEVENT
DTSTART;VALUE=DATE:20260704
DTEND;VALUE=DATE:20260712
DTSTAMP:20260424T152955
CREATED:20251228T140302Z
LAST-MODIFIED:20251228T140302Z
UID:2846-1783123200-1783814399@sv-pouch.de
SUMMARY:Sommerferienlager DLRG
DESCRIPTION:vom 04. bis 11. Juli 2026
URL:https://sv-pouch.de/veranstaltung/sommerferienlager-dlrg/
LOCATION:Muldestausee Pouch
CATEGORIES:Veranstaltungen
ATTACH;FMTTYPE=image/jpeg:https://sv-pouch.de/wp-content/uploads/Nebel-02-4.jpg
END:VEVENT
BEGIN:VEVENT
DTSTART;VALUE=DATE:20260814
DTEND;VALUE=DATE:20260817
DTSTAMP:20260424T152955
CREATED:20251228T140901Z
LAST-MODIFIED:20251228T140901Z
UID:2848-1786665600-1786924799@sv-pouch.de
SUMMARY:Trainingswochenende DLRG
DESCRIPTION:vom 14. bis 16. August 2026
URL:https://sv-pouch.de/veranstaltung/trainingswochenende-dlrg/
LOCATION:Muldestausee Pouch
CATEGORIES:Veranstaltungen
ATTACH;FMTTYPE=image/jpeg:https://sv-pouch.de/wp-content/uploads/Nebel-02-2.jpg
END:VEVENT
BEGIN:VEVENT
DTSTART;TZID=Europe/Berlin:20260822T110000
DTEND;TZID=Europe/Berlin:20260822T140000
DTSTAMP:20260424T152955
CREATED:20251228T134045Z
LAST-MODIFIED:20251228T134045Z
UID:2832-1787396400-1787407200@sv-pouch.de
SUMMARY:Langstreckenregatta am 22. August 2026
DESCRIPTION:Start um 11.00 Uhr; Seglerabend um 18.00 Uhr
URL:https://sv-pouch.de/veranstaltung/langstreckenregatta-am-22-august-2026/
LOCATION:Muldestausee Pouch
CATEGORIES:Regatten
ATTACH;FMTTYPE=image/jpeg:https://sv-pouch.de/wp-content/uploads/Ansegeln-08-2.jpg
END:VEVENT
BEGIN:VEVENT
DTSTART;TZID=Europe/Berlin:20260919T090000
DTEND;TZID=Europe/Berlin:20260919T140000
DTSTAMP:20260424T152955
CREATED:20251228T134335Z
LAST-MODIFIED:20251228T134335Z
UID:2834-1789808400-1789826400@sv-pouch.de
SUMMARY:Grünpflege am 19. September 2026
DESCRIPTION:von 09.00 Uhr bis 14.00 Uhr
URL:https://sv-pouch.de/veranstaltung/gruenpflege-am-19-september-2026/
LOCATION:Muldestausee Pouch
CATEGORIES:Veranstaltungen
ATTACH;FMTTYPE=image/jpeg:https://sv-pouch.de/wp-content/uploads/Gruenpflege-03.jpg
END:VEVENT
BEGIN:VEVENT
DTSTART;TZID=Europe/Berlin:20261010T110000
DTEND;TZID=Europe/Berlin:20261011T140000
DTSTAMP:20260424T152955
CREATED:20251228T134839Z
LAST-MODIFIED:20251228T134839Z
UID:2836-1791630000-1791727200@sv-pouch.de
SUMMARY:Nebelpokal am 10. und 11. Oktober 2026
DESCRIPTION:Start am 10.10.2026 um 11.00 Uhr; Seglerabend um 18.00 Uhr \nam 11.10.2026 Start um 10.00 Uhr
URL:https://sv-pouch.de/veranstaltung/nebelpokal-am-10-und-11-oktober-2026/
LOCATION:Muldestausee Pouch
CATEGORIES:Regatten
ATTACH;FMTTYPE=image/jpeg:https://sv-pouch.de/wp-content/uploads/Mairegatta-02-1.jpg
END:VEVENT
BEGIN:VEVENT
DTSTART;TZID=Europe/Berlin:20261024T090000
DTEND;TZID=Europe/Berlin:20261024T150000
DTSTAMP:20260424T152955
CREATED:20251228T135103Z
LAST-MODIFIED:20251228T135103Z
UID:2838-1792832400-1792854000@sv-pouch.de
SUMMARY:Hafenberäumung am 24. Oktober 2026
DESCRIPTION:von 09.00 Uhr bis 15.00 Uhr mit Imbiss
URL:https://sv-pouch.de/veranstaltung/hafenberaeumung-am-24-oktober-2026/
LOCATION:Muldestausee Pouch
CATEGORIES:Veranstaltungen
ATTACH;FMTTYPE=image/jpeg:https://sv-pouch.de/wp-content/uploads/Stegabbau-03-1.jpg
END:VEVENT
BEGIN:VEVENT
DTSTART;TZID=Europe/Berlin:20261114T090000
DTEND;TZID=Europe/Berlin:20261114T140000
DTSTAMP:20260424T152955
CREATED:20251228T135627Z
LAST-MODIFIED:20251228T135627Z
UID:2840-1794646800-1794664800@sv-pouch.de
SUMMARY:Grünpflege am 14. November 2026
DESCRIPTION:von 09.00 Uhr bis 14.00 Uhr
URL:https://sv-pouch.de/veranstaltung/gruenpflege-am-14-november-2026/
LOCATION:Muldestausee Pouch
CATEGORIES:Veranstaltungen
ATTACH;FMTTYPE=image/jpeg:https://sv-pouch.de/wp-content/uploads/sv-pouch-baumfaellen.jpg
END:VEVENT
END:VCALENDAR